BEGIN:VCALENDAR
VERSION:2.0
PRODID:-//Optim&#039;ism - ECPv5.1.6//NONSGML v1.0//EN
CALSCALE:GREGORIAN
METHOD:PUBLISH
X-WR-CALNAME:Optim&#039;ism
X-ORIGINAL-URL:https://www.optim-ism.fr
X-WR-CALDESC:évènements pour Optim&#039;ism
BEGIN:VTIMEZONE
TZID:Europe/Paris
BEGIN:DAYLIGHT
TZOFFSETFROM:+0100
TZOFFSETTO:+0200
TZNAME:CEST
DTSTART:20220327T010000
END:DAYLIGHT
BEGIN:STANDARD
TZOFFSETFROM:+0200
TZOFFSETTO:+0100
TZNAME:CET
DTSTART:20221030T010000
END:STANDARD
END:VTIMEZONE
BEGIN:VEVENT
DTSTART;TZID=Europe/Paris:20221022T093000
DTEND;TZID=Europe/Paris:20221022T120000
DTSTAMP:20260421T122534
CREATED:20221012T164622Z
LAST-MODIFIED:20221012T164622Z
UID:6833-1666431000-1666440000@www.optim-ism.fr
SUMMARY:Mission bénévoles verger
DESCRIPTION:Nouvelle mission bénévoles au verger samedi 22 Octobre de 9h30 à 12h \nAu programme : Plantations ! \nRemplacement de la haie abimée près du champ voisin et remplacement des pommiers malades ou morts \nA vos pelles !
URL:https://www.optim-ism.fr/evenement/mission-benevoles-verger/
LOCATION:Verger Citoyen – Pom d’Amis\, Stang Er Gat\, Hennebont\, 56700
END:VEVENT
END:VCALENDAR